BEGIN:VCALENDAR
VERSION:2.0
PRODID:-//AAGL - ECPv6.15.17.1//NONSGML v1.0//EN
CALSCALE:GREGORIAN
METHOD:PUBLISH
X-ORIGINAL-URL:https://aagl.org
X-WR-CALDESC:Events for AAGL
REFRESH-INTERVAL;VALUE=DURATION:PT1H
X-Robots-Tag:noindex
X-PUBLISHED-TTL:PT1H
BEGIN:VTIMEZONE
TZID:America/Los_Angeles
BEGIN:DAYLIGHT
TZOFFSETFROM:-0800
TZOFFSETTO:-0700
TZNAME:PDT
DTSTART:20240310T100000
END:DAYLIGHT
BEGIN:STANDARD
TZOFFSETFROM:-0700
TZOFFSETTO:-0800
TZNAME:PST
DTSTART:20241103T090000
END:STANDARD
BEGIN:DAYLIGHT
TZOFFSETFROM:-0800
TZOFFSETTO:-0700
TZNAME:PDT
DTSTART:20250309T100000
END:DAYLIGHT
BEGIN:STANDARD
TZOFFSETFROM:-0700
TZOFFSETTO:-0800
TZNAME:PST
DTSTART:20251102T090000
END:STANDARD
BEGIN:DAYLIGHT
TZOFFSETFROM:-0800
TZOFFSETTO:-0700
TZNAME:PDT
DTSTART:20260308T100000
END:DAYLIGHT
BEGIN:STANDARD
TZOFFSETFROM:-0700
TZOFFSETTO:-0800
TZNAME:PST
DTSTART:20261101T090000
END:STANDARD
END:VTIMEZONE
BEGIN:VEVENT
DTSTART;TZID=America/Los_Angeles:20250710T090000
DTEND;TZID=America/Los_Angeles:20250710T094500
DTSTAMP:20260420T212702
CREATED:20250512T015021Z
LAST-MODIFIED:20250620T225557Z
UID:10000106-1752138000-1752140700@aagl.org
SUMMARY:AAGL/Israeli Society of Gynecological Endoscopy Webinar: Roadmap for Successful Myomectomy: From Diagnosis to Recovery
DESCRIPTION:AAGL/Israeli Society of Gynecological Endoscopy Webinar: Click here to register.\n \nWebinar Topic: Roadmap for Successful Myomectomy: From Diagnosis to Recovery \nPresented By: \nRoy Mashiach\, MD\, Chaim Sheba Medical Center\, Tel Hashomer\, Ramat Gan\, Israel \nModerated By: \nNoam Smorgick\, MD (Professor)\nPresident of the Israeli Society of Gynecological Endoscopy\n \nWebinar Description: This webinar will include tips and tricks for successful myomectomy: choosing the most appropriate diagnosis modality\, patient selection\, pre-operative workup\, and medications. patient set up. surgical tips and tricks for laparoscopic myomectomy\, and for better recovery. \nWebinar Objectives: We will describe pre-operative\, operative\, and post-operative measures that yield better surgical outcomes and patient satisfaction.
URL:https://aagl.org/event/aagl-israeli-society-of-gynecological-endoscopy-webinar-roadmap-for-successful-myomectomy-from-diagnosis-to-recovery/
ATTACH;FMTTYPE=image/png:https://aagl.org/wp-content/uploads/2025/05/V3_aagl-israel-250603-1200x630-1.png
END:VEVENT
END:VCALENDAR