BEGIN:VCALENDAR
VERSION:2.0
PRODID:-//AAGL - ECPv6.15.17.1//NONSGML v1.0//EN
CALSCALE:GREGORIAN
METHOD:PUBLISH
X-WR-CALNAME:AAGL
X-ORIGINAL-URL:https://aagl.org
X-WR-CALDESC:Events for AAGL
REFRESH-INTERVAL;VALUE=DURATION:PT1H
X-Robots-Tag:noindex
X-PUBLISHED-TTL:PT1H
BEGIN:VTIMEZONE
TZID:America/Los_Angeles
BEGIN:DAYLIGHT
TZOFFSETFROM:-0800
TZOFFSETTO:-0700
TZNAME:PDT
DTSTART:20220313T100000
END:DAYLIGHT
BEGIN:STANDARD
TZOFFSETFROM:-0700
TZOFFSETTO:-0800
TZNAME:PST
DTSTART:20221106T090000
END:STANDARD
BEGIN:DAYLIGHT
TZOFFSETFROM:-0800
TZOFFSETTO:-0700
TZNAME:PDT
DTSTART:20230312T100000
END:DAYLIGHT
BEGIN:STANDARD
TZOFFSETFROM:-0700
TZOFFSETTO:-0800
TZNAME:PST
DTSTART:20231105T090000
END:STANDARD
BEGIN:DAYLIGHT
TZOFFSETFROM:-0800
TZOFFSETTO:-0700
TZNAME:PDT
DTSTART:20240310T100000
END:DAYLIGHT
BEGIN:STANDARD
TZOFFSETFROM:-0700
TZOFFSETTO:-0800
TZNAME:PST
DTSTART:20241103T090000
END:STANDARD
END:VTIMEZONE
BEGIN:VEVENT
DTSTART;TZID=America/Los_Angeles:20230316T170000
DTEND;TZID=America/Los_Angeles:20230316T180000
DTSTAMP:20260424T044945
CREATED:20230117T203457Z
LAST-MODIFIED:20230301T224041Z
UID:10000020-1678986000-1678989600@aagl.org
SUMMARY:AAGL/Asensus Surgical™ Webinar: Robotics from the Eye of the Beholder: Why I Quit and Why I Restarted
DESCRIPTION:AAGL/Asensus Surgical™ Webinar: Click here to register. \nWebinar Topic: Robotics from the Eye of the Beholder: Why I Quit and Why I Restarted \nPresented by: Steven Douglas McCarus\, MD\, Advent Health\, Orlando\, Florida \nWebinar Description: Presented by Dr. Steven Douglas McCarus\, this webinar will provide valuable perspectives about the learning journey from Minimally Invasive Surgery to Robotics to enable participants to shape their own learning plan. Dr. McCarus will share training guidance\, clinical data\, and patient satisfaction scores to help participants objectively evaluate how to incorporate robotics into their clinical practice. Dr. McCarus will also highlight technology advances that are shaping the future of MIS GYN surgery.
URL:https://aagl.org/event/aagl-asensus-webinar-robotics-from-the-eye-of-the-beholder-why-i-quit-and-why-i-restarted/
END:VEVENT
BEGIN:VEVENT
DTSTART;TZID=America/Los_Angeles:20230316T170000
DTEND;TZID=America/Los_Angeles:20230316T180000
DTSTAMP:20260424T044945
CREATED:20230117T203457Z
LAST-MODIFIED:20230117T203457Z
UID:10000049-1678986000-1678989600@aagl.org
SUMMARY:AAGL/Asensus Surgical™ Webinar: Robotics from the Eye of the Beholder: Why I Quit and Why I Restarted
DESCRIPTION:AAGL/Asensus Surgical™ Webinar: Click here to register. \nWebinar Topic: Robotics from the Eye of the Beholder: Why I Quit and Why I Restarted \nPresented by: Steven Douglas McCarus\, MD\, Advent Health\, Orlando\, Florida \nWebinar Description: Presented by Dr. Steven Douglas McCarus\, this webinar will provide valuable perspectives about the learning journey from Minimally Invasive Surgery to Robotics to enable participants to shape their own learning plan. Dr. McCarus will share training guidance\, clinical data\, and patient satisfaction scores to help participants objectively evaluate how to incorporate robotics into their clinical practice. Dr. McCarus will also highlight technology advances that are shaping the future of MIS GYN surgery.
URL:https://aagl.org/event/aagl-asensus-webinar-robotics-from-the-eye-of-the-beholder-why-i-quit-and-why-i-restarted-2/
END:VEVENT
END:VCALENDAR