BEGIN:VCALENDAR
VERSION:2.0
PRODID:-//AAGL - ECPv6.15.17.1//NONSGML v1.0//EN
CALSCALE:GREGORIAN
METHOD:PUBLISH
X-ORIGINAL-URL:https://aagl.org
X-WR-CALDESC:Events for AAGL
REFRESH-INTERVAL;VALUE=DURATION:PT1H
X-Robots-Tag:noindex
X-PUBLISHED-TTL:PT1H
BEGIN:VTIMEZONE
TZID:America/Los_Angeles
BEGIN:DAYLIGHT
TZOFFSETFROM:-0800
TZOFFSETTO:-0700
TZNAME:PDT
DTSTART:20220313T100000
END:DAYLIGHT
BEGIN:STANDARD
TZOFFSETFROM:-0700
TZOFFSETTO:-0800
TZNAME:PST
DTSTART:20221106T090000
END:STANDARD
BEGIN:DAYLIGHT
TZOFFSETFROM:-0800
TZOFFSETTO:-0700
TZNAME:PDT
DTSTART:20230312T100000
END:DAYLIGHT
BEGIN:STANDARD
TZOFFSETFROM:-0700
TZOFFSETTO:-0800
TZNAME:PST
DTSTART:20231105T090000
END:STANDARD
BEGIN:DAYLIGHT
TZOFFSETFROM:-0800
TZOFFSETTO:-0700
TZNAME:PDT
DTSTART:20240310T100000
END:DAYLIGHT
BEGIN:STANDARD
TZOFFSETFROM:-0700
TZOFFSETTO:-0800
TZNAME:PST
DTSTART:20241103T090000
END:STANDARD
END:VTIMEZONE
BEGIN:VEVENT
DTSTART;TZID=America/Los_Angeles:20230227T190000
DTEND;TZID=America/Los_Angeles:20230227T200000
DTSTAMP:20260424T030857
CREATED:20230207T175859Z
LAST-MODIFIED:20230223T202910Z
UID:10000018-1677524400-1677528000@aagl.org
SUMMARY:AAGL PAG SIG Webinar: Surgical Technique/Adaptations for the Pediatric and Adolescent Patient Undergoing Minimally Invasive Gynecologic Surgery
DESCRIPTION:AAGL PAG SIG Webinar: Click here to register. \nClick here to view the complete Syllabus for the webinar including the webinar description\, objectives\, credit info\, moderator & faculty info\, and financial disclosures. CME Disclosures can be found on page 5 of the Syllabus. \nShould you have any questions regarding CME accreditation for this webinar\, please contact Nancy Williams\, AAGL CME Consultant\, at nancy@cmeconsultants.com. \n \nWebinar Topic: Surgical Technique/Adaptations for the Pediatric and Adolescent Patient Undergoing Minimally Invasive Gynecologic Surgery \nPresented by: \nGylynthia Trotman\, MD\, MPH\nAssistant Professor of Obstetrics and Gynecology and Pediatrics\nIcahn School of Medicine at Mount Sinai\, New York\, New York\nDirector of Pediatric and Adolescent Gynecology\nKravis Children’s Hospital\, Mount Sinai Health System\, New York\, New York\nTitle of Talk: “Preoperative Considerations for Pediatric Patients” \nNichole Tyson\, MD\nClinical Professor of Obstetrics and Gynecology;\nPediatric Adolescent Gynecologist (PAG)\nStanford University\, Palo Alto\, CA\nTitle of Talk: “Intraoperative Considerations” \nKrista J. Childress\, MD\nAssociate Professor of Obstetrics and Gynecology\nUniversity of Utah/Primary Children’s Hospital\, Salt Lake City\, UT\nTitle of Talk: “Postoperative Considerations” \nKate McCracken\, MD (Moderator)\nClinical Associate Professor\nThe Ohio State University Wexner Medical Center College of Medicine\nPediatric and Adolescent Gynecology Specialist\nNationwide Children’s Hospital\, Columbus\, OH \nWebinar Description: The AAGL Pediatric and Adolescent Gynecology Special Interest Group is excited to host a webinar that will provide education about surgical techniques and adaptations for the pediatric and adolescent patient undergoing minimally invasive gynecologic surgery. \nCourse Objectives: At the conclusion of this activity\, learners should be able to: \n\nImplement essential pre-operative considerations when preparing PAG patients for surgery\nProvide surgical pearls for optimizing minimally invasive surgical management and minimizing complications for the PAG patient\nReview strategies to facilitate a successful post-operative course/recovery period\nIdentify and address the unique clinical and cultural challenges in providing optimal gynecologic care to PAG patients\n\nThe AAGL is accredited by the Accreditation Council for Continuing Medical Education to provide continuing medical education for physicians. \nThe AAGL designates this live activity for a maximum of 1.0 AMA PRA Category 1 Credits™. Physicians should claim only the credit commensurate with the extent of their participation in the activity. \nDiplomates who successfully complete this approved CME activity will receive 1.0 Part IV Practice Improvement credits for the American Board of Obstetrics and Gynecology (ABOG) Maintenance of Certification (MOC) program. \nShould you have any questions regarding CME accreditation for this webinar\, please contact Nancy Williams\, AAGL CME Consultant\, at nancy@cmeconsultants.com. \n*This webinar is presented by the Pediatric Adolescent Gynecology (PAG) SIG. To view PAG SIG Board member details\, please click here.
URL:https://aagl.org/event/pagwebinar2023/
END:VEVENT
BEGIN:VEVENT
DTSTART;TZID=America/Los_Angeles:20230227T190000
DTEND;TZID=America/Los_Angeles:20230227T200000
DTSTAMP:20260424T030857
CREATED:20230207T175859Z
LAST-MODIFIED:20230207T175859Z
UID:10000050-1677524400-1677528000@aagl.org
SUMMARY:AAGL PAG SIG Webinar: Surgical Technique/Adaptations for the Pediatric and Adolescent Patient Undergoing Minimally Invasive Gynecologic Surgery
DESCRIPTION:AAGL PAG SIG Webinar: Click here to register. \nClick here to view the complete Syllabus for the webinar including the webinar description\, objectives\, credit info\, moderator & faculty info\, and financial disclosures. CME Disclosures can be found on page 5 of the Syllabus. \nShould you have any questions regarding CME accreditation for this webinar\, please contact Nancy Williams\, AAGL CME Consultant\, at nancy@cmeconsultants.com. \n \nWebinar Topic: Surgical Technique/Adaptations for the Pediatric and Adolescent Patient Undergoing Minimally Invasive Gynecologic Surgery \nPresented by: \nGylynthia Trotman\, MD\, MPH\nAssistant Professor of Obstetrics and Gynecology and Pediatrics\nIcahn School of Medicine at Mount Sinai\, New York\, New York\nDirector of Pediatric and Adolescent Gynecology\nKravis Children’s Hospital\, Mount Sinai Health System\, New York\, New York\nTitle of Talk: “Preoperative Considerations for Pediatric Patients” \nNichole Tyson\, MD\nClinical Professor of Obstetrics and Gynecology;\nPediatric Adolescent Gynecologist (PAG)\nStanford University\, Palo Alto\, CA\nTitle of Talk: “Intraoperative Considerations” \nKrista J. Childress\, MD\nAssociate Professor of Obstetrics and Gynecology\nUniversity of Utah/Primary Children’s Hospital\, Salt Lake City\, UT\nTitle of Talk: “Postoperative Considerations” \nKate McCracken\, MD (Moderator)\nClinical Associate Professor\nThe Ohio State University Wexner Medical Center College of Medicine\nPediatric and Adolescent Gynecology Specialist\nNationwide Children’s Hospital\, Columbus\, OH \nWebinar Description: The AAGL Pediatric and Adolescent Gynecology Special Interest Group is excited to host a webinar that will provide education about surgical techniques and adaptations for the pediatric and adolescent patient undergoing minimally invasive gynecologic surgery. \nCourse Objectives: At the conclusion of this activity\, learners should be able to: \n\nImplement essential pre-operative considerations when preparing PAG patients for surgery\nProvide surgical pearls for optimizing minimally invasive surgical management and minimizing complications for the PAG patient\nReview strategies to facilitate a successful post-operative course/recovery period\nIdentify and address the unique clinical and cultural challenges in providing optimal gynecologic care to PAG patients\n\nThe AAGL is accredited by the Accreditation Council for Continuing Medical Education to provide continuing medical education for physicians. \nThe AAGL designates this live activity for a maximum of 1.0 AMA PRA Category 1 Credits™. Physicians should claim only the credit commensurate with the extent of their participation in the activity. \nDiplomates who successfully complete this approved CME activity will receive 1.0 Part IV Practice Improvement credits for the American Board of Obstetrics and Gynecology (ABOG) Maintenance of Certification (MOC) program. \nShould you have any questions regarding CME accreditation for this webinar\, please contact Nancy Williams\, AAGL CME Consultant\, at nancy@cmeconsultants.com. \n*This webinar is presented by the Pediatric Adolescent Gynecology (PAG) SIG. To view PAG SIG Board member details\, please click here.
URL:https://aagl.org/event/pagwebinar2023-2/
END:VEVENT
END:VCALENDAR