BEGIN:VCALENDAR
VERSION:2.0
PRODID:-//AAGL - ECPv6.15.17.1//NONSGML v1.0//EN
CALSCALE:GREGORIAN
METHOD:PUBLISH
X-ORIGINAL-URL:https://aagl.org
X-WR-CALDESC:Events for AAGL
REFRESH-INTERVAL;VALUE=DURATION:PT1H
X-Robots-Tag:noindex
X-PUBLISHED-TTL:PT1H
BEGIN:VTIMEZONE
TZID:America/Los_Angeles
BEGIN:DAYLIGHT
TZOFFSETFROM:-0800
TZOFFSETTO:-0700
TZNAME:PDT
DTSTART:20220313T100000
END:DAYLIGHT
BEGIN:STANDARD
TZOFFSETFROM:-0700
TZOFFSETTO:-0800
TZNAME:PST
DTSTART:20221106T090000
END:STANDARD
BEGIN:DAYLIGHT
TZOFFSETFROM:-0800
TZOFFSETTO:-0700
TZNAME:PDT
DTSTART:20230312T100000
END:DAYLIGHT
BEGIN:STANDARD
TZOFFSETFROM:-0700
TZOFFSETTO:-0800
TZNAME:PST
DTSTART:20231105T090000
END:STANDARD
BEGIN:DAYLIGHT
TZOFFSETFROM:-0800
TZOFFSETTO:-0700
TZNAME:PDT
DTSTART:20240310T100000
END:DAYLIGHT
BEGIN:STANDARD
TZOFFSETFROM:-0700
TZOFFSETTO:-0800
TZNAME:PST
DTSTART:20241103T090000
END:STANDARD
END:VTIMEZONE
BEGIN:VEVENT
DTSTART;TZID=America/Los_Angeles:20230221T160000
DTEND;TZID=America/Los_Angeles:20230221T170000
DTSTAMP:20260424T020615
CREATED:20220222T001739Z
LAST-MODIFIED:20230208T155048Z
UID:10000005-1676995200-1676998800@aagl.org
SUMMARY:FMIGS Webinar: Incorporating the Vaginal Approach into Your MIGS Armamentarium
DESCRIPTION:AAGL FMIGS Webinar: Click here to register. \nWebinar Topic: Incorporating the Vaginal Approach into Your MIGS Armamentarium\n \nPresented by: Rosanne M. Kho\, MD\, The University of Arizona College of Medicine – Phoenix\, Phoenix\, AZ \nWebinar Description: At the end of the session\, the participant will become familiar with indications and ways where vaginal access is recommended and can be made feasible using MIGS principles and new technologies.
URL:https://aagl.org/event/fmigs-webinar-vaginal-surgery/
END:VEVENT
BEGIN:VEVENT
DTSTART;TZID=America/Los_Angeles:20230221T160000
DTEND;TZID=America/Los_Angeles:20230221T170000
DTSTAMP:20260424T020615
CREATED:20220222T001739Z
LAST-MODIFIED:20220222T001739Z
UID:10000037-1676995200-1676998800@aagl.org
SUMMARY:FMIGS Webinar: Incorporating the Vaginal Approach into Your MIGS Armamentarium
DESCRIPTION:AAGL FMIGS Webinar: Click here to register. \nWebinar Topic: Incorporating the Vaginal Approach into Your MIGS Armamentarium\n \nPresented by: Rosanne M. Kho\, MD\, The University of Arizona College of Medicine – Phoenix\, Phoenix\, AZ \nWebinar Description: At the end of the session\, the participant will become familiar with indications and ways where vaginal access is recommended and can be made feasible using MIGS principles and new technologies.
URL:https://aagl.org/event/fmigs-webinar-vaginal-surgery-2/
END:VEVENT
END:VCALENDAR