BEGIN:VCALENDAR
VERSION:2.0
PRODID:-//AAGL - ECPv6.15.17.1//NONSGML v1.0//EN
CALSCALE:GREGORIAN
METHOD:PUBLISH
X-ORIGINAL-URL:https://aagl.org
X-WR-CALDESC:Events for AAGL
REFRESH-INTERVAL;VALUE=DURATION:PT1H
X-Robots-Tag:noindex
X-PUBLISHED-TTL:PT1H
BEGIN:VTIMEZONE
TZID:America/Los_Angeles
BEGIN:DAYLIGHT
TZOFFSETFROM:-0800
TZOFFSETTO:-0700
TZNAME:PDT
DTSTART:20220313T100000
END:DAYLIGHT
BEGIN:STANDARD
TZOFFSETFROM:-0700
TZOFFSETTO:-0800
TZNAME:PST
DTSTART:20221106T090000
END:STANDARD
BEGIN:DAYLIGHT
TZOFFSETFROM:-0800
TZOFFSETTO:-0700
TZNAME:PDT
DTSTART:20230312T100000
END:DAYLIGHT
BEGIN:STANDARD
TZOFFSETFROM:-0700
TZOFFSETTO:-0800
TZNAME:PST
DTSTART:20231105T090000
END:STANDARD
BEGIN:DAYLIGHT
TZOFFSETFROM:-0800
TZOFFSETTO:-0700
TZNAME:PDT
DTSTART:20240310T100000
END:DAYLIGHT
BEGIN:STANDARD
TZOFFSETFROM:-0700
TZOFFSETTO:-0800
TZNAME:PST
DTSTART:20241103T090000
END:STANDARD
END:VTIMEZONE
BEGIN:VEVENT
DTSTART;TZID=America/Los_Angeles:20230216T160000
DTEND;TZID=America/Los_Angeles:20230216T170000
DTSTAMP:20260425T080232
CREATED:20230111T015232Z
LAST-MODIFIED:20230214T231251Z
UID:10000016-1676563200-1676566800@aagl.org
SUMMARY:AAGL/Intuitive Webinar: How I Use the da Vinci Xi System for Complex Benign Hysterectomy
DESCRIPTION:AAGL/Intuitive Webinar: Click here to register. \nWebinar Topic: How I Use the da Vinci Xi System for Complex Benign Hysterectomy \nPresented by:  \nJamal Mourad\, DO\, Banner Health\, Phoenix\, AZ \nNita Desai\, MD\, Atrium Health\, Charlotte\, NC \nWebinar Description: Is there value in using the da Vinci Xi Surgical System for benign indications? In this webinar\, Drs. Jamal Mourad and Nita Desai will present their perspectives on how they have implemented robotic-assisted surgery with the da Vinci system into their practice and the value they feel it brings to their patients.
URL:https://aagl.org/event/aagl-intuitive-webinar-how-i-use-the-da-vinci-xi-system-for-complex-benign-hysterectomy/
END:VEVENT
BEGIN:VEVENT
DTSTART;TZID=America/Los_Angeles:20230216T160000
DTEND;TZID=America/Los_Angeles:20230216T170000
DTSTAMP:20260425T080232
CREATED:20230111T015232Z
LAST-MODIFIED:20230111T015232Z
UID:10000045-1676563200-1676566800@aagl.org
SUMMARY:AAGL/Intuitive Webinar: How I Use the da Vinci Xi System for Complex Benign Hysterectomy
DESCRIPTION:AAGL/Intuitive Webinar: Click here to register. \nWebinar Topic: How I Use the da Vinci Xi System for Complex Benign Hysterectomy \nPresented by:  \nJamal Mourad\, DO\, Banner Health\, Phoenix\, AZ \nNita Desai\, MD\, Atrium Health\, Charlotte\, NC \nWebinar Description: Is there value in using the da Vinci Xi Surgical System for benign indications? In this webinar\, Drs. Jamal Mourad and Nita Desai will present their perspectives on how they have implemented robotic-assisted surgery with the da Vinci system into their practice and the value they feel it brings to their patients.
URL:https://aagl.org/event/aagl-intuitive-webinar-how-i-use-the-da-vinci-xi-system-for-complex-benign-hysterectomy-2/
END:VEVENT
END:VCALENDAR