BEGIN:VCALENDAR
VERSION:2.0
PRODID:-//AAGL - ECPv6.15.17.1//NONSGML v1.0//EN
CALSCALE:GREGORIAN
METHOD:PUBLISH
X-WR-CALNAME:AAGL
X-ORIGINAL-URL:https://aagl.org
X-WR-CALDESC:Events for AAGL
REFRESH-INTERVAL;VALUE=DURATION:PT1H
X-Robots-Tag:noindex
X-PUBLISHED-TTL:PT1H
BEGIN:VTIMEZONE
TZID:America/Los_Angeles
BEGIN:DAYLIGHT
TZOFFSETFROM:-0800
TZOFFSETTO:-0700
TZNAME:PDT
DTSTART:20220313T100000
END:DAYLIGHT
BEGIN:STANDARD
TZOFFSETFROM:-0700
TZOFFSETTO:-0800
TZNAME:PST
DTSTART:20221106T090000
END:STANDARD
BEGIN:DAYLIGHT
TZOFFSETFROM:-0800
TZOFFSETTO:-0700
TZNAME:PDT
DTSTART:20230312T100000
END:DAYLIGHT
BEGIN:STANDARD
TZOFFSETFROM:-0700
TZOFFSETTO:-0800
TZNAME:PST
DTSTART:20231105T090000
END:STANDARD
BEGIN:DAYLIGHT
TZOFFSETFROM:-0800
TZOFFSETTO:-0700
TZNAME:PDT
DTSTART:20240310T100000
END:DAYLIGHT
BEGIN:STANDARD
TZOFFSETFROM:-0700
TZOFFSETTO:-0800
TZNAME:PST
DTSTART:20241103T090000
END:STANDARD
END:VTIMEZONE
BEGIN:VEVENT
DTSTART;TZID=America/Los_Angeles:20230419T160000
DTEND;TZID=America/Los_Angeles:20230419T170000
DTSTAMP:20260423T153749
CREATED:20230130T232027Z
LAST-MODIFIED:20230328T175529Z
UID:10000017-1681920000-1681923600@aagl.org
SUMMARY:FMIGS Webinar: Approach to the Workup of AUB with the Focus on Nonsurgical/Hormonal Treatment Options/Therapies
DESCRIPTION:AAGL FMIGS Webinar: Click here to register. \nWebinar Topic: Approach to the Workup of AUB with the Focus on Nonsurgical/Hormonal Treatment Options/Therapies \nPresented by: Malcolm G. Munro\, MD\, University of California\, Los Angeles (UCLA)\, Los Angeles\, CA \nWebinar Description: This presentation will foster the understanding of menstrual physiology and the pathogenesis of nongestational abnormal uterine bleeding (AUB) in the reproductive years. There will be an overview of the diagnostic approach and the integration of findings to develop a differential diagnoses. All of this will be presented in the context of the FIGO Systems. The presentation will then focus on medical therapeutic options for the management of different diagnoses.
URL:https://aagl.org/event/fmigs-webinar-approach-to-the-workup-of-aub-with-the-focus-on-nonsurgical-hormonal-treatment-options-therapies/
END:VEVENT
BEGIN:VEVENT
DTSTART;TZID=America/Los_Angeles:20230419T160000
DTEND;TZID=America/Los_Angeles:20230419T170000
DTSTAMP:20260423T153749
CREATED:20230130T232027Z
LAST-MODIFIED:20230130T232027Z
UID:10000046-1681920000-1681923600@aagl.org
SUMMARY:FMIGS Webinar: Approach to the Workup of AUB with the Focus on Nonsurgical/Hormonal Treatment Options/Therapies
DESCRIPTION:AAGL FMIGS Webinar: Click here to register. \nWebinar Topic: Approach to the Workup of AUB with the Focus on Nonsurgical/Hormonal Treatment Options/Therapies \nPresented by: Malcolm G. Munro\, MD\, University of California\, Los Angeles (UCLA)\, Los Angeles\, CA \nWebinar Description: This presentation will foster the understanding of menstrual physiology and the pathogenesis of nongestational abnormal uterine bleeding (AUB) in the reproductive years. There will be an overview of the diagnostic approach and the integration of findings to develop a differential diagnoses. All of this will be presented in the context of the FIGO Systems. The presentation will then focus on medical therapeutic options for the management of different diagnoses.
URL:https://aagl.org/event/fmigs-webinar-approach-to-the-workup-of-aub-with-the-focus-on-nonsurgical-hormonal-treatment-options-therapies-2/
END:VEVENT
BEGIN:VEVENT
DTSTART;TZID=America/Los_Angeles:20230425T163000
DTEND;TZID=America/Los_Angeles:20230425T173000
DTSTAMP:20260423T153749
CREATED:20230224T022550Z
LAST-MODIFIED:20230419T203732Z
UID:10000024-1682440200-1682443800@aagl.org
SUMMARY:AAGL Urogynecology/Vaginal Surgery SIG Webinar: Surgical Ergonomics
DESCRIPTION:AAGL Urogynecology/Vaginal Surgery SIG Webinar: Click here to register. \nPlease click here to view the complete syllabus for this webinar including the webinar description\, objectives\, credit info\, moderator & faculty info\, and financial disclosures. \n \nWebinar Topic: Surgical Ergonomics \nPresented by: \nShawn A. Menefee\, MD\nDivision Head of Female Pelvic Medicine & Reconstructive Surgery\, Kaiser Permanente San Diego; Adjunct Clinical Professor\, Department of Reproductive Medicine\, University of California San Diego; Division Head\, KP San Diego Urogynecology Program\, Lead of Begin Gynecology Robotics for Southern California Permanente Medical Group\, and Research Chair for Kaiser Permanente San Diego\nTitle of Talk: “Work Related Musculoskeletal Injuries: A Preventable Epidemic or Surgical Ergonomics” \nTara Cohen\, PhD\nAssociate Professor\, Department of Surgery\, Cedars-Sinai Medical Center\, Los Angeles\, CA; Director of Research\, Department of Academic Affairs\, Division of Simulation and Interprofessional Education\, Cedars-Sinai Medical Center; Director\, Surgical Safety and Human Factors Research\, Department of Surgery\, Cedars-Sinai Medical Center\, Los Angeles\, CA\nTitle of Talk: “Using Human Factors Methods to Optimize Cognitive Ergonomics in the Operating Room” \nNoor Dasouki Abu-Alnadi\, MD\nAssistant Professor\, UNC Department of OB-GYN\, Division of Minimally Invasive Gynecologic Surgery\, Chapel Hill\, NC; Assistant Fellowship Program Director\, Department of OB-GYN\, Division of Minimally Invasive Gynecologic Surgery\, University of North Carolina\, Chapel Hill\, NC\nTitle of Talk: “Surgical Instrumentation: Shortcomings and Opportunities” \nAndrew Gabrielson\, MD\nMember\, Board of Directors and Chairman\, IT and Communications Committee\, Society of Surgical Ergonomics; PGY-5 Urology Resident\, Brady Urological Institute\, Johns Hopkins University School of Medicine\, Baltimore\, Maryland\nTitle of Talk: “Overcoming Implementation Challenges of Ergonomic Interventions and the Role of Collaboration” \nAmy J. Park\, MD (Moderator)\nImmediate Past Chair\, AAGL Urogynecology / Vaginal Surgery Special Interest Group (SIG); Section Head\, Female Pelvic Medicine & Reconstructive Surgery Subspecialty Care for Women’s Health\, Cleveland Clinic\, OB/GYN & Women’s Health Institute\, Cleveland\, OH \nWebinar Description: Work related musculoskeletal disorders are highly prevalent among surgeons\, which adversely affect individual health and wellness\, in addition to depleting the surgical workforce. This webinar will review the importance of surgical ergonomics in terms of preventing disability\, career longevity\, surgical instrumentation\, best practices for cognitive and physical ergonomics\, and future directions/innovations within this space. \nCourse Objectives:\nAt the conclusion of this activity\, learners should be able to:\n1. Review the impact and prevalence of work-related musculoskeletal disorders\n2. Review surgical implementation\n3. Employ best practices for cognitive and physical ergonomics \nThe AAGL is accredited by the Accreditation Council for Continuing Medical Education to provide continuing medical education for physicians. \nThe AAGL designates this live activity for a maximum of 1.0 AMA PRA Category 1 Credits™. Physicians should claim only the credit commensurate with the extent of their participation in the activity. \nShould you have any questions regarding CME accreditation for this webinar\, please contact Nancy Williams\, AAGL CME Consultant\, at nancy@cmeconsultants.com. \n*This webinar is presented by the Urogynecology/Vaginal Surgery SIG. To view the Urogynecology/ Vaginal Surgery SIG Board member details on AAGL Connect\, please click here.
URL:https://aagl.org/event/aagl-urogynecology-vaginal-surgery-sig-webinar-surgical-ergonomics/
END:VEVENT
BEGIN:VEVENT
DTSTART;TZID=America/Los_Angeles:20230425T163000
DTEND;TZID=America/Los_Angeles:20230425T173000
DTSTAMP:20260423T153749
CREATED:20230224T022550Z
LAST-MODIFIED:20230224T022550Z
UID:10000054-1682440200-1682443800@aagl.org
SUMMARY:AAGL Urogynecology/Vaginal Surgery SIG Webinar: Surgical Ergonomics
DESCRIPTION:AAGL Urogynecology/Vaginal Surgery SIG Webinar: Click here to register. \nPlease click here to view the complete syllabus for this webinar including the webinar description\, objectives\, credit info\, moderator & faculty info\, and financial disclosures. \n \nWebinar Topic: Surgical Ergonomics \nPresented by: \nShawn A. Menefee\, MD\nDivision Head of Female Pelvic Medicine & Reconstructive Surgery\, Kaiser Permanente San Diego; Adjunct Clinical Professor\, Department of Reproductive Medicine\, University of California San Diego; Division Head\, KP San Diego Urogynecology Program\, Lead of Begin Gynecology Robotics for Southern California Permanente Medical Group\, and Research Chair for Kaiser Permanente San Diego\nTitle of Talk: “Work Related Musculoskeletal Injuries: A Preventable Epidemic or Surgical Ergonomics” \nTara Cohen\, PhD\nAssociate Professor\, Department of Surgery\, Cedars-Sinai Medical Center\, Los Angeles\, CA; Director of Research\, Department of Academic Affairs\, Division of Simulation and Interprofessional Education\, Cedars-Sinai Medical Center; Director\, Surgical Safety and Human Factors Research\, Department of Surgery\, Cedars-Sinai Medical Center\, Los Angeles\, CA\nTitle of Talk: “Using Human Factors Methods to Optimize Cognitive Ergonomics in the Operating Room” \nNoor Dasouki Abu-Alnadi\, MD\nAssistant Professor\, UNC Department of OB-GYN\, Division of Minimally Invasive Gynecologic Surgery\, Chapel Hill\, NC; Assistant Fellowship Program Director\, Department of OB-GYN\, Division of Minimally Invasive Gynecologic Surgery\, University of North Carolina\, Chapel Hill\, NC\nTitle of Talk: “Surgical Instrumentation: Shortcomings and Opportunities” \nAndrew Gabrielson\, MD\nMember\, Board of Directors and Chairman\, IT and Communications Committee\, Society of Surgical Ergonomics; PGY-5 Urology Resident\, Brady Urological Institute\, Johns Hopkins University School of Medicine\, Baltimore\, Maryland\nTitle of Talk: “Overcoming Implementation Challenges of Ergonomic Interventions and the Role of Collaboration” \nAmy J. Park\, MD (Moderator)\nImmediate Past Chair\, AAGL Urogynecology / Vaginal Surgery Special Interest Group (SIG); Section Head\, Female Pelvic Medicine & Reconstructive Surgery Subspecialty Care for Women’s Health\, Cleveland Clinic\, OB/GYN & Women’s Health Institute\, Cleveland\, OH \nWebinar Description: Work related musculoskeletal disorders are highly prevalent among surgeons\, which adversely affect individual health and wellness\, in addition to depleting the surgical workforce. This webinar will review the importance of surgical ergonomics in terms of preventing disability\, career longevity\, surgical instrumentation\, best practices for cognitive and physical ergonomics\, and future directions/innovations within this space. \nCourse Objectives:\nAt the conclusion of this activity\, learners should be able to:\n1. Review the impact and prevalence of work-related musculoskeletal disorders\n2. Review surgical implementation\n3. Employ best practices for cognitive and physical ergonomics \nThe AAGL is accredited by the Accreditation Council for Continuing Medical Education to provide continuing medical education for physicians. \nThe AAGL designates this live activity for a maximum of 1.0 AMA PRA Category 1 Credits™. Physicians should claim only the credit commensurate with the extent of their participation in the activity. \nShould you have any questions regarding CME accreditation for this webinar\, please contact Nancy Williams\, AAGL CME Consultant\, at nancy@cmeconsultants.com. \n*This webinar is presented by the Urogynecology/Vaginal Surgery SIG. To view the Urogynecology/ Vaginal Surgery SIG Board member details on AAGL Connect\, please click here.
URL:https://aagl.org/event/aagl-urogynecology-vaginal-surgery-sig-webinar-surgical-ergonomics-2/
END:VEVENT
END:VCALENDAR