BEGIN:VCALENDAR
VERSION:2.0
PRODID:-//AAGL - ECPv6.15.17.1//NONSGML v1.0//EN
CALSCALE:GREGORIAN
METHOD:PUBLISH
X-ORIGINAL-URL:https://aagl.org
X-WR-CALDESC:Events for AAGL
REFRESH-INTERVAL;VALUE=DURATION:PT1H
X-Robots-Tag:noindex
X-PUBLISHED-TTL:PT1H
BEGIN:VTIMEZONE
TZID:America/Los_Angeles
BEGIN:DAYLIGHT
TZOFFSETFROM:-0800
TZOFFSETTO:-0700
TZNAME:PDT
DTSTART:20220313T100000
END:DAYLIGHT
BEGIN:STANDARD
TZOFFSETFROM:-0700
TZOFFSETTO:-0800
TZNAME:PST
DTSTART:20221106T090000
END:STANDARD
BEGIN:DAYLIGHT
TZOFFSETFROM:-0800
TZOFFSETTO:-0700
TZNAME:PDT
DTSTART:20230312T100000
END:DAYLIGHT
BEGIN:STANDARD
TZOFFSETFROM:-0700
TZOFFSETTO:-0800
TZNAME:PST
DTSTART:20231105T090000
END:STANDARD
BEGIN:DAYLIGHT
TZOFFSETFROM:-0800
TZOFFSETTO:-0700
TZNAME:PDT
DTSTART:20240310T100000
END:DAYLIGHT
BEGIN:STANDARD
TZOFFSETFROM:-0700
TZOFFSETTO:-0800
TZNAME:PST
DTSTART:20241103T090000
END:STANDARD
END:VTIMEZONE
BEGIN:VEVENT
DTSTART;TZID=America/Los_Angeles:20230307T160000
DTEND;TZID=America/Los_Angeles:20230307T170000
DTSTAMP:20260423T165625
CREATED:20220324T025513Z
LAST-MODIFIED:20230223T210232Z
UID:10000004-1678204800-1678208400@aagl.org
SUMMARY:FMIGS Webinar: Benign Gynecologist Approach to the Adnexal Mass\, Including the Basics to Reading and Understanding Ultrasound and MRIs
DESCRIPTION:AAGL FMIGS Webinar: Click here to register. \nWebinar Topic: The Benign Gynecologist Approach to the Adnexal Mass\, Including the Basics to Reading and Understanding Ultrasound and MRIs \nPresented by: Jubilee Brown\, MD\, Levine Cancer Institute at Atrium Health\, Charlotte\, NC \nWebinar Description: This webinar will describe the indications and techniques for appropriate decision making surrounding the adnexal mass. We will focus on preoperative evaluation including imaging and workup\, practical techniques for entry\, detachment\, and removal\, with a detailed discussion of intraoperative considerations.
URL:https://aagl.org/event/fmigs-webinar-benign-gynecologist-approach-to-the-adnexal-mass-including-the-basics-to-reading-and-understanding-ultrasound-and-mris/
END:VEVENT
BEGIN:VEVENT
DTSTART;TZID=America/Los_Angeles:20230307T160000
DTEND;TZID=America/Los_Angeles:20230307T170000
DTSTAMP:20260423T165625
CREATED:20220324T025513Z
LAST-MODIFIED:20220324T025513Z
UID:10000036-1678204800-1678208400@aagl.org
SUMMARY:FMIGS Webinar: Benign Gynecologist Approach to the Adnexal Mass\, Including the Basics to Reading and Understanding Ultrasound and MRIs
DESCRIPTION:AAGL FMIGS Webinar: Click here to register. \nWebinar Topic: The Benign Gynecologist Approach to the Adnexal Mass\, Including the Basics to Reading and Understanding Ultrasound and MRIs \nPresented by: Jubilee Brown\, MD\, Levine Cancer Institute at Atrium Health\, Charlotte\, NC \nWebinar Description: This webinar will describe the indications and techniques for appropriate decision making surrounding the adnexal mass. We will focus on preoperative evaluation including imaging and workup\, practical techniques for entry\, detachment\, and removal\, with a detailed discussion of intraoperative considerations.
URL:https://aagl.org/event/fmigs-webinar-benign-gynecologist-approach-to-the-adnexal-mass-including-the-basics-to-reading-and-understanding-ultrasound-and-mris-2/
END:VEVENT
BEGIN:VEVENT
DTSTART;TZID=America/Los_Angeles:20230316T170000
DTEND;TZID=America/Los_Angeles:20230316T180000
DTSTAMP:20260423T165625
CREATED:20230117T203457Z
LAST-MODIFIED:20230301T224041Z
UID:10000020-1678986000-1678989600@aagl.org
SUMMARY:AAGL/Asensus Surgical™ Webinar: Robotics from the Eye of the Beholder: Why I Quit and Why I Restarted
DESCRIPTION:AAGL/Asensus Surgical™ Webinar: Click here to register. \nWebinar Topic: Robotics from the Eye of the Beholder: Why I Quit and Why I Restarted \nPresented by: Steven Douglas McCarus\, MD\, Advent Health\, Orlando\, Florida \nWebinar Description: Presented by Dr. Steven Douglas McCarus\, this webinar will provide valuable perspectives about the learning journey from Minimally Invasive Surgery to Robotics to enable participants to shape their own learning plan. Dr. McCarus will share training guidance\, clinical data\, and patient satisfaction scores to help participants objectively evaluate how to incorporate robotics into their clinical practice. Dr. McCarus will also highlight technology advances that are shaping the future of MIS GYN surgery.
URL:https://aagl.org/event/aagl-asensus-webinar-robotics-from-the-eye-of-the-beholder-why-i-quit-and-why-i-restarted/
END:VEVENT
BEGIN:VEVENT
DTSTART;TZID=America/Los_Angeles:20230316T170000
DTEND;TZID=America/Los_Angeles:20230316T180000
DTSTAMP:20260423T165625
CREATED:20230117T203457Z
LAST-MODIFIED:20230117T203457Z
UID:10000049-1678986000-1678989600@aagl.org
SUMMARY:AAGL/Asensus Surgical™ Webinar: Robotics from the Eye of the Beholder: Why I Quit and Why I Restarted
DESCRIPTION:AAGL/Asensus Surgical™ Webinar: Click here to register. \nWebinar Topic: Robotics from the Eye of the Beholder: Why I Quit and Why I Restarted \nPresented by: Steven Douglas McCarus\, MD\, Advent Health\, Orlando\, Florida \nWebinar Description: Presented by Dr. Steven Douglas McCarus\, this webinar will provide valuable perspectives about the learning journey from Minimally Invasive Surgery to Robotics to enable participants to shape their own learning plan. Dr. McCarus will share training guidance\, clinical data\, and patient satisfaction scores to help participants objectively evaluate how to incorporate robotics into their clinical practice. Dr. McCarus will also highlight technology advances that are shaping the future of MIS GYN surgery.
URL:https://aagl.org/event/aagl-asensus-webinar-robotics-from-the-eye-of-the-beholder-why-i-quit-and-why-i-restarted-2/
END:VEVENT
BEGIN:VEVENT
DTSTART;TZID=America/Los_Angeles:20230322T170000
DTEND;TZID=America/Los_Angeles:20230322T180000
DTSTAMP:20260423T165625
CREATED:20230215T204052Z
LAST-MODIFIED:20230315T174330Z
UID:10000022-1679504400-1679508000@aagl.org
SUMMARY:AAGL Endometriosis SIG Webinar: Complex Endometriosis Cases: State of the Art
DESCRIPTION:AAGL Endometriosis SIG Webinar: Click here to register. \nWebinar Topic: Complex Endometriosis Cases: State of the Art \nPresented by:\nResad Paya Pasic MD\, PhD\, University of Louisville Hospital\, Louisville\, KY\nRodrigo Fernandes\, MD\, Institute of Cancer of the State of São Paulo\, São Paulo\, Brazil\nMario Malzoni\, MD\, Malzoni Center for Advanced Pelvic Surgery\, Avellino\, Italy\nWilliam Kondo\, MD\, MHSc (Moderator)\, Vita Batel Hospital\, Curitiba\, Paraná – Brazil\nPatrick Bellelis\, MD\, PhD (Moderator)\, University of São Paulo\, São Paulo\, Brazil \nWebinar Description: In this webinar the speakers are going to describe the available surgical techniques to approach complex endometriosis cases affecting the bladder\, the ureter and the bowel. \nCourse Objectives: At the end of this webinar\, the participants will be able to discuss with the patients different possibilities of surgical approach to bladder\, ureter and bowel endometriosis according to the specific type of disease the patient has.
URL:https://aagl.org/event/complex-endometriosis-cases-state-of-the-art/
END:VEVENT
BEGIN:VEVENT
DTSTART;TZID=America/Los_Angeles:20230322T170000
DTEND;TZID=America/Los_Angeles:20230322T180000
DTSTAMP:20260423T165625
CREATED:20230215T204052Z
LAST-MODIFIED:20230215T204052Z
UID:10000052-1679504400-1679508000@aagl.org
SUMMARY:AAGL Endometriosis SIG Webinar: Complex Endometriosis Cases: State of the Art
DESCRIPTION:AAGL Endometriosis SIG Webinar: Click here to register. \nWebinar Topic: Complex Endometriosis Cases: State of the Art \nPresented by:\nResad Paya Pasic MD\, PhD\, University of Louisville Hospital\, Louisville\, KY\nRodrigo Fernandes\, MD\, Institute of Cancer of the State of São Paulo\, São Paulo\, Brazil\nMario Malzoni\, MD\, Malzoni Center for Advanced Pelvic Surgery\, Avellino\, Italy\nWilliam Kondo\, MD\, MHSc (Moderator)\, Vita Batel Hospital\, Curitiba\, Paraná – Brazil\nPatrick Bellelis\, MD\, PhD (Moderator)\, University of São Paulo\, São Paulo\, Brazil \nWebinar Description: In this webinar the speakers are going to describe the available surgical techniques to approach complex endometriosis cases affecting the bladder\, the ureter and the bowel. \nCourse Objectives: At the end of this webinar\, the participants will be able to discuss with the patients different possibilities of surgical approach to bladder\, ureter and bowel endometriosis according to the specific type of disease the patient has.
URL:https://aagl.org/event/complex-endometriosis-cases-state-of-the-art-2/
END:VEVENT
END:VCALENDAR