BEGIN:VCALENDAR
VERSION:2.0
PRODID:-//AAGL - ECPv6.15.17.1//NONSGML v1.0//EN
CALSCALE:GREGORIAN
METHOD:PUBLISH
X-ORIGINAL-URL:https://aagl.org
X-WR-CALDESC:Events for AAGL
REFRESH-INTERVAL;VALUE=DURATION:PT1H
X-Robots-Tag:noindex
X-PUBLISHED-TTL:PT1H
BEGIN:VTIMEZONE
TZID:America/Los_Angeles
BEGIN:DAYLIGHT
TZOFFSETFROM:-0800
TZOFFSETTO:-0700
TZNAME:PDT
DTSTART:20250309T100000
END:DAYLIGHT
BEGIN:STANDARD
TZOFFSETFROM:-0700
TZOFFSETTO:-0800
TZNAME:PST
DTSTART:20251102T090000
END:STANDARD
BEGIN:DAYLIGHT
TZOFFSETFROM:-0800
TZOFFSETTO:-0700
TZNAME:PDT
DTSTART:20260308T100000
END:DAYLIGHT
BEGIN:STANDARD
TZOFFSETFROM:-0700
TZOFFSETTO:-0800
TZNAME:PST
DTSTART:20261101T090000
END:STANDARD
BEGIN:DAYLIGHT
TZOFFSETFROM:-0800
TZOFFSETTO:-0700
TZNAME:PDT
DTSTART:20270314T100000
END:DAYLIGHT
BEGIN:STANDARD
TZOFFSETFROM:-0700
TZOFFSETTO:-0800
TZNAME:PST
DTSTART:20271107T090000
END:STANDARD
END:VTIMEZONE
BEGIN:VEVENT
DTSTART;TZID=America/Los_Angeles:20260124T060000
DTEND;TZID=America/Los_Angeles:20260124T120000
DTSTAMP:20260420T192649
CREATED:20251204T222126Z
LAST-MODIFIED:20260121T192202Z
UID:10000122-1769234400-1769256000@aagl.org
SUMMARY:Transatlantic Exchanges: Shaping the Future of MIGS
DESCRIPTION:– POSTPONED – \nDear Friends and Colleagues\, \nDue to a set of unforeseen circumstances\, ESGE and AAGL have jointly come to the decision to postpone the event Transatlantic Exchanges: Shaping the Future of MIGS\, originally planned on 24th January to a new date in early May 2026. \nThose already registered for 24th January will be contacted individually regarding their registration. \nNew date\, times\, and scientific program will be communicated very soon \nESGE and AAGL are committed to hosting this unique event in May and thank you for your understanding.
URL:https://aagl.org/event/transatlantic-exchanges-shaping-the-future-of-migs/
CATEGORIES:Webinar
ATTACH;FMTTYPE=image/jpeg:https://aagl.org/wp-content/uploads/2025/12/ESGE-Postponed-1200x630-1.jpg
LOCATION:https://aagl.swoogo.com/26aaglesge/9583552
END:VEVENT
BEGIN:VEVENT
DTSTART;TZID=America/Los_Angeles:20260606T060000
DTEND;TZID=America/Los_Angeles:20260606T120000
DTSTAMP:20260420T192649
CREATED:20260420T234943Z
LAST-MODIFIED:20260420T234943Z
UID:10000132-1780725600-1780747200@aagl.org
SUMMARY:Transatlantic Exchange: Shaping the Future of MIGS - AAGL/ESGE Virtual Congress
DESCRIPTION:Exclusive and Free for AAGL and ESGE Members! \nThis dynamic half day event will unite global leaders in Minimally Invasive Gynecologic Surgery (MIGS) to explore innovations and best practices in laparoscopy and hysteroscopy. Together\, we’ll discuss the next frontiers in surgical education\, technology\, and patient care — shaping the evolution of MIGS across continents. \nBe part of this exceptional exchange of ideas and expertise that’s redefining the future of women’s health. \n\nExpert presentations from renowned AAGL and ESGE faculty\nInsights into cutting-edge advancements in hysteroscopy and laparoscopy\nA transatlantic dialogue shaping the future of gynecologic surgery
URL:https://aagl.org/event/transatlantic-exchange-shaping-the-future-of-migs-aagl-esge-virtual-congress/
CATEGORIES:Congress,Webinar
ATTACH;FMTTYPE=image/jpeg:https://aagl.org/wp-content/uploads/2026/04/ESGE-Revised_1200x630.jpg
LOCATION:
END:VEVENT
END:VCALENDAR