BEGIN:VCALENDAR
VERSION:2.0
PRODID:-//AAGL - ECPv6.15.17.1//NONSGML v1.0//EN
CALSCALE:GREGORIAN
METHOD:PUBLISH
X-WR-CALNAME:AAGL
X-ORIGINAL-URL:https://aagl.org
X-WR-CALDESC:Events for AAGL
REFRESH-INTERVAL;VALUE=DURATION:PT1H
X-Robots-Tag:noindex
X-PUBLISHED-TTL:PT1H
BEGIN:VTIMEZONE
TZID:America/New_York
BEGIN:DAYLIGHT
TZOFFSETFROM:-0500
TZOFFSETTO:-0400
TZNAME:EDT
DTSTART:20250309T070000
END:DAYLIGHT
BEGIN:STANDARD
TZOFFSETFROM:-0400
TZOFFSETTO:-0500
TZNAME:EST
DTSTART:20251102T060000
END:STANDARD
BEGIN:DAYLIGHT
TZOFFSETFROM:-0500
TZOFFSETTO:-0400
TZNAME:EDT
DTSTART:20260308T070000
END:DAYLIGHT
BEGIN:STANDARD
TZOFFSETFROM:-0400
TZOFFSETTO:-0500
TZNAME:EST
DTSTART:20261101T060000
END:STANDARD
BEGIN:DAYLIGHT
TZOFFSETFROM:-0500
TZOFFSETTO:-0400
TZNAME:EDT
DTSTART:20270314T070000
END:DAYLIGHT
BEGIN:STANDARD
TZOFFSETFROM:-0400
TZOFFSETTO:-0500
TZNAME:EST
DTSTART:20271107T060000
END:STANDARD
END:VTIMEZONE
BEGIN:VTIMEZONE
TZID:America/Los_Angeles
BEGIN:DAYLIGHT
TZOFFSETFROM:-0800
TZOFFSETTO:-0700
TZNAME:PDT
DTSTART:20250309T100000
END:DAYLIGHT
BEGIN:STANDARD
TZOFFSETFROM:-0700
TZOFFSETTO:-0800
TZNAME:PST
DTSTART:20251102T090000
END:STANDARD
BEGIN:DAYLIGHT
TZOFFSETFROM:-0800
TZOFFSETTO:-0700
TZNAME:PDT
DTSTART:20260308T100000
END:DAYLIGHT
BEGIN:STANDARD
TZOFFSETFROM:-0700
TZOFFSETTO:-0800
TZNAME:PST
DTSTART:20261101T090000
END:STANDARD
BEGIN:DAYLIGHT
TZOFFSETFROM:-0800
TZOFFSETTO:-0700
TZNAME:PDT
DTSTART:20270314T100000
END:DAYLIGHT
BEGIN:STANDARD
TZOFFSETFROM:-0700
TZOFFSETTO:-0800
TZNAME:PST
DTSTART:20271107T090000
END:STANDARD
END:VTIMEZONE
BEGIN:VEVENT
DTSTART;TZID=America/New_York:20260205T070000
DTEND;TZID=America/New_York:20260206T170000
DTSTAMP:20260423T005852
CREATED:20260120T195010Z
LAST-MODIFIED:20260122T203127Z
UID:10000126-1770274800-1770397200@aagl.org
SUMMARY:CBGF Junior Fellows Introductory Robotics Workshop
DESCRIPTION:As our understanding of robot-assisted surgery has grown\, so have the applications\, technological innovations and potential complications. To optimize surgeon performance and patient outcomes\, this introductory course is designed to provide  qualified 1st year Fellows & Preceptors  an introduction to the various surgical components of today’s FDA approved robotic surgical platform\, the daVinci Xi System. Subsequently the appropriate gynecologic applications will be reviewed. An emphasis will be made on 4th generation technology\, its supportive ecosystem\, and the concept of total practice robotics. The option of attending this course will be made available to fellows to accomplish these goals. \nTarget Audience\n1st Year Fellows & Preceptors\n \nLocation\nIntuitive Surgical\, Inc.\n5655 Spalding Drive\nPeachtree Corners\, GA 30092 \nDate:  February 5-6\, 2026 \nTime: Full Day Workshop \nFor more information contact FMIGS@aagl.org
URL:https://aagl.org/event/cbgf/
LOCATION:Intuitive Surgical\, 5655 Spalding Drive\, GA\, United States
CATEGORIES:CBGF (Formerly FMIGS)
END:VEVENT
BEGIN:VEVENT
DTSTART;TZID=America/Los_Angeles:20260304T170000
DTEND;TZID=America/Los_Angeles:20260304T180000
DTSTAMP:20260423T005852
CREATED:20251217T224514Z
LAST-MODIFIED:20260122T202835Z
UID:10000124-1772643600-1772647200@aagl.org
SUMMARY:CBGF Webinar Series: Applied Ergonomics in Surgery: Tools for Pain Prevention and Recovery
DESCRIPTION:Complex Benign Gynecology Fellowship (CBGF) Webinar Series: (For Fellowship Only): Please contact Arcy Dominguez at adominguez@aagl.org to learn more and and receive webinar registration information. \nWebinar Topic: Applied Ergonomics in Surgery: Tools for Pain Prevention and Recovery\n\nPresented by: \nEmily M. Olig\, MD\, The University of Kansas Health System\, Kansas City\, KS \nRiley J. Young\, MD\, Mayo Clinic\, Rochester\, MN \nModerated by: \nMichelle Y. Louie\, MD\, Mayo Clinic\, Phoenix\, AZ \nWebinar Description: Applied Ergonomics in Surgery: Tools for Pain Prevention and Recovery introduces the principles of surgical ergonomics and their critical role in surgeon health and performance. This session provides a concise overview of ergonomic challenges in the operating room and emphasizes practical strategies to minimize musculoskeletal strain during procedures. Participants will learn evidence-based techniques to prevent injury and explore rehabilitation approaches for managing post-operative soreness and fatigue. \nWebinar Objective(s): By the end of this course\, participants will be able to: \n\nDescribe common ergonomic risk factors encountered during surgical procedures.\nApply positioning and equipment adjustment strategies to reduce intraoperative strain.\nImplement techniques and exercises to target areas high risk for pain related to surgery.\nIntegrate ergonomic best practices into daily surgical workflows to promote long-term health.
URL:https://aagl.org/event/cbgf-webinar-series-applied-ergonomics-in-surgery-tools-for-pain-prevention-and-recovery/
CATEGORIES:CBGF (Formerly FMIGS)
ATTACH;FMTTYPE=image/jpeg:https://aagl.org/wp-content/uploads/2025/12/March-4-2026-CBGF-Webinar-Image.jpg
END:VEVENT
END:VCALENDAR