BEGIN:VCALENDAR
VERSION:2.0
PRODID:-//AAGL - ECPv6.15.17.1//NONSGML v1.0//EN
CALSCALE:GREGORIAN
METHOD:PUBLISH
X-ORIGINAL-URL:https://aagl.org
X-WR-CALDESC:Events for AAGL
REFRESH-INTERVAL;VALUE=DURATION:PT1H
X-Robots-Tag:noindex
X-PUBLISHED-TTL:PT1H
BEGIN:VTIMEZONE
TZID:America/Los_Angeles
BEGIN:DAYLIGHT
TZOFFSETFROM:-0800
TZOFFSETTO:-0700
TZNAME:PDT
DTSTART:20230312T100000
END:DAYLIGHT
BEGIN:STANDARD
TZOFFSETFROM:-0700
TZOFFSETTO:-0800
TZNAME:PST
DTSTART:20231105T090000
END:STANDARD
BEGIN:DAYLIGHT
TZOFFSETFROM:-0800
TZOFFSETTO:-0700
TZNAME:PDT
DTSTART:20240310T100000
END:DAYLIGHT
BEGIN:STANDARD
TZOFFSETFROM:-0700
TZOFFSETTO:-0800
TZNAME:PST
DTSTART:20241103T090000
END:STANDARD
BEGIN:DAYLIGHT
TZOFFSETFROM:-0800
TZOFFSETTO:-0700
TZNAME:PDT
DTSTART:20250309T100000
END:DAYLIGHT
BEGIN:STANDARD
TZOFFSETFROM:-0700
TZOFFSETTO:-0800
TZNAME:PST
DTSTART:20251102T090000
END:STANDARD
BEGIN:DAYLIGHT
TZOFFSETFROM:-0800
TZOFFSETTO:-0700
TZNAME:PDT
DTSTART:20260308T100000
END:DAYLIGHT
BEGIN:STANDARD
TZOFFSETFROM:-0700
TZOFFSETTO:-0800
TZNAME:PST
DTSTART:20261101T090000
END:STANDARD
BEGIN:DAYLIGHT
TZOFFSETFROM:-0800
TZOFFSETTO:-0700
TZNAME:PDT
DTSTART:20270314T100000
END:DAYLIGHT
BEGIN:STANDARD
TZOFFSETFROM:-0700
TZOFFSETTO:-0800
TZNAME:PST
DTSTART:20271107T090000
END:STANDARD
END:VTIMEZONE
BEGIN:VEVENT
DTSTART;TZID=America/Los_Angeles:20260109T080000
DTEND;TZID=America/Los_Angeles:20260111T170000
DTSTAMP:20260419T222754
CREATED:20250512T162613Z
LAST-MODIFIED:20250513T155628Z
UID:10000107-1767945600-1768150800@aagl.org
SUMMARY:Minimally Invasive Gynecologic Surgery Course and Cadaver Lab
DESCRIPTION:Minimally Invasive Gynecologic Surgery Course and Cadaver Lab \nJanuary 9 – 11\, 2026 \nTampa\, FL \nThis course is a cadaver-based\, hands-on educational course for Gynecologic Surgeons who desire to advance their skills and knowledge in laparoscopic surgery. Participants will learn and practice surgical techniques for efficient and safe total laparoscopic hysterectomy and advanced pelvic dissection. The course will also cover laparoscopic surgical dissection\, effective use of laparoscopic instrumentation\, electrosurgery and prevention and repairing of incidental bladder and bowel injuries. \nCourse Directors\nEmad Mikhail\, MD\, FACOG\, FACS and Nash Moawad\, MD\, MS\, FACOG\, FACS \nView the Course Trailer and and Learner Testimonials – https://vimeo.com/995106705/9e9b70bab7?share=copy \nFor more information please contact via email: Fwhitaker@usf.edu or by phone: 813-224-7819. \n 
URL:https://aagl.org/event/minimally-invasive-gynecologic-surgery-course-and-cadaver-lab-4/
LOCATION:Center for Advanced Medical Learning and Simulation (CAMLS)\, 124 S. Franklin Street\, Tampa\, Florida\, 33602
CATEGORIES:Affiliate
ATTACH;FMTTYPE=image/jpeg:https://aagl.org/wp-content/uploads/2025/05/CAMLS_Course-1200x630_2026.jpg
END:VEVENT
BEGIN:VEVENT
DTSTART;TZID=America/Los_Angeles:20250527T080000
DTEND;TZID=America/Los_Angeles:20250529T170000
DTSTAMP:20260419T222754
CREATED:20250205T012522Z
LAST-MODIFIED:20250205T012522Z
UID:10000098-1748332800-1748538000@aagl.org
SUMMARY:GynItaly 2025 Bootcamp
DESCRIPTION:International Meeting on Minimally Invasive Surgery in Gynecology\nFrom Theory to Clinical Practice\nVenezia Lido\, Italy \nAn exclusive event focused on optimal management of patients affected by gynecological benign and malignant diseases\, from diagnosis to medical and surgical approach.\nThe Bootcamp\, with its unique format\, promises to equip you with knowledge and tools you need to excel!\nLearn from leading international experts and  engage in interactive workshops to gain  in-depth practical insights and improve your everyday clinical practice. \nScientific Program Chairs:\nMario Malzoni\, MD (Italy)\nMaurício Abrão\, MD\, PhD (Brazil) \n 
URL:https://aagl.org/event/gynitaly-2025-bootcamp/
LOCATION:MO
CATEGORIES:Affiliate
ATTACH;FMTTYPE=image/jpeg:https://aagl.org/wp-content/uploads/2025/02/GYNItaly-2025-Light-Blue_1200x630.jpg
END:VEVENT
BEGIN:VEVENT
DTSTART;TZID=America/Los_Angeles:20250423T080000
DTEND;TZID=America/Los_Angeles:20250426T170000
DTSTAMP:20260419T222754
CREATED:20250205T011426Z
LAST-MODIFIED:20250205T011426Z
UID:10000097-1745395200-1745686800@aagl.org
SUMMARY:International Congress of Minimally Invasive Gynecology and Endometriosis
DESCRIPTION:AAGL International Congress of Minimally Invasive Gynecology and Endometriosis in in affiliation with Federacao Brasileira das Associacoes de Ginecologia e Obstetricia\nSão Paulo\, Brazil \nScientific Program Chairs:\nHelizabet Salomão\, MD\nMaurício Abrão\, MD
URL:https://aagl.org/event/international-congress-of-minimally-invasive-gynecology-and-endometriosis/
LOCATION:MO
CATEGORIES:Affiliate
ATTACH;FMTTYPE=image/png:https://aagl.org/wp-content/uploads/2025/02/REV_Brazil-Event-1200x630-1.png
END:VEVENT
BEGIN:VEVENT
DTSTART;TZID=America/Los_Angeles:20250314T080000
DTEND;TZID=America/Los_Angeles:20250316T170000
DTSTAMP:20260419T222754
CREATED:20250205T005718Z
LAST-MODIFIED:20250205T005718Z
UID:10000096-1741939200-1742144400@aagl.org
SUMMARY:IAGE Annual Conference 2025
DESCRIPTION:Latest Trends in Gynecology\nInnovate – Operate – Elevate \nThe IAGE AAGL 2025 Conference\, from 14th to 16th March 2025 at JW Marriott\, Pune\, is a prestigious event in gynecology. Organized by IAGE and AAGL\, it focuses on the latest advancements in the field. Featuring hands-on workshops\, live surgeries\, and expert-led sessions\, the conference aims to enhance skills\, foster innovation\, and promote collaboration among medical professionals globally. \nOrganizing Chairpersons Shailesh Puntambekar and Dr Sunita Tandulwadkar \n 
URL:https://aagl.org/event/iage-annual-conference-2025/
LOCATION:JW Marriot Hotel Pune\, Maharashtra\, India
CATEGORIES:Affiliate
ATTACH;FMTTYPE=image/jpeg:https://aagl.org/wp-content/uploads/2025/02/India-Event-Graphic_1200x630.jpg
END:VEVENT
BEGIN:VEVENT
DTSTART;TZID=America/Los_Angeles:20250110T080000
DTEND;TZID=America/Los_Angeles:20250112T170000
DTSTAMP:20260419T222754
CREATED:20240702T000811Z
LAST-MODIFIED:20240917T172432Z
UID:10000088-1736496000-1736701200@aagl.org
SUMMARY:Minimally Invasive Gynecologic Surgery Course and Cadaver Lab
DESCRIPTION:Minimally Invasive Gynecologic Surgery Course and Cadaver Lab\nProvided by USF Health \nThe minimally invasive surgery course is a cadaver based\, hands-on educational course for gynecologic surgeons who desire to advance their skills and knowledge in laparoscopic surgery. Participants will learn and practice surgical techniques for efficient and safe total laparoscopic hysterectomy and advanced pelvic dissection. A laparoscopic suturing lab will be available throughout the entire course for participants to practice the skills of laparoscopic suturing and knot tying. The course will also cover laparoscopic surgical dissection\, effective use of laparoscopic instrumentation\, electrosurgery and prevention and repairing of incidental bladder and bowel injuries. \nThis activity is designed to meet the educational needs of Obstetricians\, Gynecologists\, Gynecologic Surgeons\, OB/GYN residents and fellows. \nThere will also be a pre course hysteroscopy lab on 1/10/2025. \nCourse Trailer and Learner Testimonials \nhttps://vimeo.com/995106705/9e9b70bab7?share=copy \nCourse Directors\nEmad Mikhail\, MD\, FACOG\, FACS\nNash Moawad\, MD\, MS\, FACOG\, FACS \nClick here to view a brochure and register\nhttps://cmetracker.net/USF/Publisher?page=pubOpen#/EventID/358153/
URL:https://aagl.org/event/minimally-invasive-gynecologic-surgery-course-and-cadaver-lab-3/
LOCATION:Center for Advanced Medical Learning and Simulation (CAMLS)\, 124 S. Franklin Street\, Tampa\, Florida\, 33602
CATEGORIES:Affiliate
ATTACH;FMTTYPE=image/png:https://aagl.org/wp-content/uploads/2024/07/CAMLS-graphic.png
END:VEVENT
BEGIN:VEVENT
DTSTART;TZID=America/Los_Angeles:20240926T080000
DTEND;TZID=America/Los_Angeles:20240928T170000
DTSTAMP:20260419T222754
CREATED:20240326T234518Z
LAST-MODIFIED:20240419T160650Z
UID:10000079-1727337600-1727542800@aagl.org
SUMMARY:CanSAGE 2024 – Transforming Tomorrow: Improving Access to Advanced Gynecologic Care
DESCRIPTION:The annual CanSAGE conference includes sessions\, panel discussions\, and presentations by leading figures in our field. \nMeeting Chair \nDr. Paul Yong\, Vancouver\, BC
URL:https://aagl.org/event/cansage-2024-transforming-tomorrow-improving-access-to-advanced-gynecologic-care/
LOCATION:Victoria Conference Center\, 812 Wharf Street\, Victoria\, British Columbia\, Canada
CATEGORIES:Affiliate
ATTACH;FMTTYPE=image/jpeg:https://aagl.org/wp-content/uploads/2024/03/CANSage.jpg
END:VEVENT
BEGIN:VEVENT
DTSTART;VALUE=DATE:20240415
DTEND;VALUE=DATE:20240421
DTSTAMP:20260419T222754
CREATED:20240215T212009Z
LAST-MODIFIED:20240408T225858Z
UID:10000073-1713139200-1713657599@aagl.org
SUMMARY:Pelvic Anatomy Expo 2024 - Endorsed by the AAGL and ESGE
DESCRIPTION:Five different advanced courses\, with theory and hands-on cadavers labs. Practical Anatomy and Surgical Education \nExpo Director: Nucelio Lemos\, MD\, PhD \nCourse Directors: Justin Brown\, Cristian Campian\, Jose D. Eugenio\, William Kondo\, Armando Menocal\, Ally Murji\, Meir Jonathan Solnik
URL:https://aagl.org/event/pelvic-anatomy-expo-2024-endorsed-by-the-aagl-and-esge/
LOCATION:St\, Louis University\, 3839 Lindell Boulevard\, St. Louis\, MO\, 63108\, United States
CATEGORIES:Affiliate
END:VEVENT
END:VCALENDAR