BEGIN:VCALENDAR
VERSION:2.0
PRODID:-//AAGL - ECPv6.15.17.1//NONSGML v1.0//EN
CALSCALE:GREGORIAN
METHOD:PUBLISH
X-ORIGINAL-URL:https://aagl.org
X-WR-CALDESC:Events for AAGL
REFRESH-INTERVAL;VALUE=DURATION:PT1H
X-Robots-Tag:noindex
X-PUBLISHED-TTL:PT1H
BEGIN:VTIMEZONE
TZID:America/Los_Angeles
BEGIN:DAYLIGHT
TZOFFSETFROM:-0800
TZOFFSETTO:-0700
TZNAME:PDT
DTSTART:20240310T100000
END:DAYLIGHT
BEGIN:STANDARD
TZOFFSETFROM:-0700
TZOFFSETTO:-0800
TZNAME:PST
DTSTART:20241103T090000
END:STANDARD
BEGIN:DAYLIGHT
TZOFFSETFROM:-0800
TZOFFSETTO:-0700
TZNAME:PDT
DTSTART:20250309T100000
END:DAYLIGHT
BEGIN:STANDARD
TZOFFSETFROM:-0700
TZOFFSETTO:-0800
TZNAME:PST
DTSTART:20251102T090000
END:STANDARD
BEGIN:DAYLIGHT
TZOFFSETFROM:-0800
TZOFFSETTO:-0700
TZNAME:PDT
DTSTART:20260308T100000
END:DAYLIGHT
BEGIN:STANDARD
TZOFFSETFROM:-0700
TZOFFSETTO:-0800
TZNAME:PST
DTSTART:20261101T090000
END:STANDARD
END:VTIMEZONE
BEGIN:VEVENT
DTSTART;TZID=America/Los_Angeles:20250910T090000
DTEND;TZID=America/Los_Angeles:20250910T100000
DTSTAMP:20260419T060330
CREATED:20250728T214223Z
LAST-MODIFIED:20250909T205640Z
UID:10000117-1757494800-1757498400@aagl.org
SUMMARY:AAGL25 Pre-Congress Webinar: From Zero to First Wins: Using AI in Everyday MIGS Practice
DESCRIPTION:AAGL Pre-Congress Webinar: Click here to register.\n \nWebinar Topic: From Zero to First Wins: Using AI in Everyday MIGS Practice \nPresented By: \nSergio Haimovich\, MD\, PhD\, Embriogyn Clinic\, Tarragona\, Spain \nIntroduction and Welcome by: \nMichael Hibner\, MD\, PhD\, AAGL Vice-President\n \nWebinar Description: A practical 1-hour introduction to AI for gynecologic surgeons\, focused on using free\, text-based tools like ChatGPT and Perplexity to support clinical writing\, teaching\, patient communication\, and professional correspondence through effective prompting. \nWebinar Objectives: Participants will:\n1. Understand the structure of AI and Generative AI (text-based focus).\n2. Learn practical prompting techniques for clinical\, educational\, and communication tasks.\n3. Execute three real-time exercises using free AI tools (ChatGPT\, Perplexity\, Consensus).\n4. Debunk common myths and address legal/safety concerns in AI use.\n5. Leave with real AI-generated content they can use immediately.
URL:https://aagl.org/event/aagl25-pre-congress-webinar-from-zero-to-first-wins-using-ai-in-everyday-migs-practice/
ATTACH;FMTTYPE=image/png:https://aagl.org/wp-content/uploads/2025/07/pre-congress-webinar-sept-10-1200x630-1.png
END:VEVENT
END:VCALENDAR