BEGIN:VCALENDAR
VERSION:2.0
PRODID:-//AAGL - ECPv6.15.17.1//NONSGML v1.0//EN
CALSCALE:GREGORIAN
METHOD:PUBLISH
X-WR-CALNAME:AAGL
X-ORIGINAL-URL:https://aagl.org
X-WR-CALDESC:Events for AAGL
REFRESH-INTERVAL;VALUE=DURATION:PT1H
X-Robots-Tag:noindex
X-PUBLISHED-TTL:PT1H
BEGIN:VTIMEZONE
TZID:America/Los_Angeles
BEGIN:DAYLIGHT
TZOFFSETFROM:-0800
TZOFFSETTO:-0700
TZNAME:PDT
DTSTART:20220313T100000
END:DAYLIGHT
BEGIN:STANDARD
TZOFFSETFROM:-0700
TZOFFSETTO:-0800
TZNAME:PST
DTSTART:20221106T090000
END:STANDARD
BEGIN:DAYLIGHT
TZOFFSETFROM:-0800
TZOFFSETTO:-0700
TZNAME:PDT
DTSTART:20230312T100000
END:DAYLIGHT
BEGIN:STANDARD
TZOFFSETFROM:-0700
TZOFFSETTO:-0800
TZNAME:PST
DTSTART:20231105T090000
END:STANDARD
BEGIN:DAYLIGHT
TZOFFSETFROM:-0800
TZOFFSETTO:-0700
TZNAME:PDT
DTSTART:20240310T100000
END:DAYLIGHT
BEGIN:STANDARD
TZOFFSETFROM:-0700
TZOFFSETTO:-0800
TZNAME:PST
DTSTART:20241103T090000
END:STANDARD
END:VTIMEZONE
BEGIN:VEVENT
DTSTART;TZID=America/Los_Angeles:20230912T170000
DTEND;TZID=America/Los_Angeles:20230912T180000
DTSTAMP:20260423T073424
CREATED:20230724T020118Z
LAST-MODIFIED:20230824T165722Z
UID:10000063-1694538000-1694541600@aagl.org
SUMMARY:Early Diagnosis and Management of Endometriosis Associated Pain
DESCRIPTION:AAGL Webinar: Click here to register. \nWebinar Topic: Early Diagnosis and Management of Endometriosis Associated Pain \nPresented by: \nLauri Silver Hochberg\, MD\, University of South Florida\, Morsani College of Medicine\, Tampa\, FL\nTalk Title: The Impact and Diagnosis of Endometriosis \nNoor Dasouki Abu-Alnadi\, MD\, University of North Carolina Chapel Hill\, Durham\, NC\nTalk Title: Management of Endometriosis Associated Pain\, The Big Picture \nWebinar Description: Delays in diagnosis and management of endometriosis negatively impact affected individuals\, their families\, and the health care system. This webinar will review the key components of the evaluation of those with endometriosis related pain to help guide timely access to management options. A focused history\, physical examination and expert guided imaging can help improve timely diagnosis. Management of endometriosis requires a personalized approach based on the patient’s goals for treatment. Understanding the interplay of medical\, surgical and complementary therapies for managing endometriosis related pain is essential to providing short- and long-term support for patients. \nObjectives:\n• Describe the approach to history\, physical examination and imaging for the clinical diagnosis of endometriosis\n• Identify the impact of delayed diagnosis of endometriosis associated pelvic pain\n• Review the approach and options for managing endometriosis associated pelvic pain\n• Discuss the importance of endometriosis and pain education for health care providers and patients \nSupported by an independent education grant from Pfizer/Myovant.
URL:https://aagl.org/event/early-diagnosis-and-management-of-endometriosis-associated-pain/
ATTACH;FMTTYPE=image/png:https://aagl.org/wp-content/uploads/2023/07/independent-grant_Endo-webinar_Sept12-1200x630-1.png
END:VEVENT
END:VCALENDAR