BEGIN:VCALENDAR
VERSION:2.0
PRODID:-//AAGL - ECPv6.15.17.1//NONSGML v1.0//EN
CALSCALE:GREGORIAN
METHOD:PUBLISH
X-WR-CALNAME:AAGL
X-ORIGINAL-URL:https://aagl.org
X-WR-CALDESC:Events for AAGL
REFRESH-INTERVAL;VALUE=DURATION:PT1H
X-Robots-Tag:noindex
X-PUBLISHED-TTL:PT1H
BEGIN:VTIMEZONE
TZID:America/Los_Angeles
BEGIN:DAYLIGHT
TZOFFSETFROM:-0800
TZOFFSETTO:-0700
TZNAME:PDT
DTSTART:20220313T100000
END:DAYLIGHT
BEGIN:STANDARD
TZOFFSETFROM:-0700
TZOFFSETTO:-0800
TZNAME:PST
DTSTART:20221106T090000
END:STANDARD
BEGIN:DAYLIGHT
TZOFFSETFROM:-0800
TZOFFSETTO:-0700
TZNAME:PDT
DTSTART:20230312T100000
END:DAYLIGHT
BEGIN:STANDARD
TZOFFSETFROM:-0700
TZOFFSETTO:-0800
TZNAME:PST
DTSTART:20231105T090000
END:STANDARD
BEGIN:DAYLIGHT
TZOFFSETFROM:-0800
TZOFFSETTO:-0700
TZNAME:PDT
DTSTART:20240310T100000
END:DAYLIGHT
BEGIN:STANDARD
TZOFFSETFROM:-0700
TZOFFSETTO:-0800
TZNAME:PST
DTSTART:20241103T090000
END:STANDARD
END:VTIMEZONE
BEGIN:VEVENT
DTSTART;TZID=America/Los_Angeles:20230621T160000
DTEND;TZID=America/Los_Angeles:20230621T170000
DTSTAMP:20260423T124403
CREATED:20230111T013609Z
LAST-MODIFIED:20230531T215151Z
UID:10000015-1687363200-1687366800@aagl.org
SUMMARY:FMIGS Webinar: Intraop/Postoperative Complications Part 1\, GI\, GU
DESCRIPTION:AAGL FMIGS Webinar: Click here to register. \nWebinar Topic: Intraop/Postoperative Complications Part 1\, GI\, GU  \nPresented by: R. Wendel Naumann\, MD\, Levine Cancer Institute\, Atrium Health/Wake Forrest\, Charlotte\, NC \nWebinar Description: This webinar will discuss the ways to avoid GI or GU injury as well as recognition and management of these complications. \n 
URL:https://aagl.org/event/fmigs-webinar-intraop-postoperative-complications-part-1-gi-gu-2/
ATTACH;FMTTYPE=image/jpeg:https://aagl.org/wp-content/uploads/2023/01/FMIGS-Webinar-naumann-1200x630-1.jpg
END:VEVENT
BEGIN:VEVENT
DTSTART;TZID=America/Los_Angeles:20230621T160000
DTEND;TZID=America/Los_Angeles:20230621T170000
DTSTAMP:20260423T124403
CREATED:20230111T013609Z
LAST-MODIFIED:20230111T013609Z
UID:10000044-1687363200-1687366800@aagl.org
SUMMARY:FMIGS Webinar: Intraop/Postoperative Complications Part 1\, GI\, GU
DESCRIPTION:AAGL FMIGS Webinar: Click here to register. \nWebinar Topic: Intraop/Postoperative Complications Part 1\, GI\, GU  \nPresented by: R. Wendel Naumann\, MD\, Levine Cancer Institute\, Atrium Health/Wake Forrest\, Charlotte\, NC \nWebinar Description: This webinar will discuss the ways to avoid GI or GU injury as well as recognition and management of these complications. \n 
URL:https://aagl.org/event/fmigs-webinar-intraop-postoperative-complications-part-1-gi-gu-2-2/
ATTACH;FMTTYPE=image/jpeg:https://aagl.org/wp-content/uploads/2023/01/FMIGS-Webinar-naumann-1200x630-1.jpg
END:VEVENT
END:VCALENDAR