BEGIN:VCALENDAR
VERSION:2.0
PRODID:-//AAGL - ECPv6.15.17.1//NONSGML v1.0//EN
CALSCALE:GREGORIAN
METHOD:PUBLISH
X-ORIGINAL-URL:https://aagl.org
X-WR-CALDESC:Events for AAGL
REFRESH-INTERVAL;VALUE=DURATION:PT1H
X-Robots-Tag:noindex
X-PUBLISHED-TTL:PT1H
BEGIN:VTIMEZONE
TZID:Europe/Rome
BEGIN:DAYLIGHT
TZOFFSETFROM:+0100
TZOFFSETTO:+0200
TZNAME:CEST
DTSTART:20220327T010000
END:DAYLIGHT
BEGIN:STANDARD
TZOFFSETFROM:+0200
TZOFFSETTO:+0100
TZNAME:CET
DTSTART:20221030T010000
END:STANDARD
BEGIN:DAYLIGHT
TZOFFSETFROM:+0100
TZOFFSETTO:+0200
TZNAME:CEST
DTSTART:20230326T010000
END:DAYLIGHT
BEGIN:STANDARD
TZOFFSETFROM:+0200
TZOFFSETTO:+0100
TZNAME:CET
DTSTART:20231029T010000
END:STANDARD
BEGIN:DAYLIGHT
TZOFFSETFROM:+0100
TZOFFSETTO:+0200
TZNAME:CEST
DTSTART:20240331T010000
END:DAYLIGHT
BEGIN:STANDARD
TZOFFSETFROM:+0200
TZOFFSETTO:+0100
TZNAME:CET
DTSTART:20241027T010000
END:STANDARD
END:VTIMEZONE
BEGIN:VEVENT
DTSTART;VALUE=DATE:20230507
DTEND;VALUE=DATE:20230511
DTSTAMP:20260423T141522
CREATED:20220507T233014Z
LAST-MODIFIED:20230315T174529Z
UID:10000006-1683417600-1683763199@aagl.org
SUMMARY:17th Annual AAGL International Congress in conjunction with Endometriosis 2023
DESCRIPTION:17th Annual International Congress in conjunction with Endometriosis 2023\nMario Malzoni\, MD\, PhD – Scientific Program Chair\nMauricio S. Abrao\, MD\, PhD – Co-Chair\nView Website
URL:https://aagl.org/event/18th-annual-aagl-international-congress-in-conjunction-with-endometriosis-2023/
END:VEVENT
BEGIN:VEVENT
DTSTART;VALUE=DATE:20230507
DTEND;VALUE=DATE:20230511
DTSTAMP:20260423T141522
CREATED:20220507T233014Z
LAST-MODIFIED:20220507T233014Z
UID:10000038-1683417600-1683763199@aagl.org
SUMMARY:17th Annual AAGL International Congress in conjunction with Endometriosis 2023
DESCRIPTION:17th Annual International Congress in conjunction with Endometriosis 2023\nMario Malzoni\, MD\, PhD – Scientific Program Chair\nMauricio S. Abrao\, MD\, PhD – Co-Chair\nView Website
URL:https://aagl.org/event/18th-annual-aagl-international-congress-in-conjunction-with-endometriosis-2023-2/
END:VEVENT
END:VCALENDAR